BEGIN:VCALENDAR
VERSION:2.0
PRODID:-//eventon.com NONSGML v1.0//EN
CALSCALE:GREGORIAN
METHOD:PUBLISH
BEGIN:VEVENT
UID:69e77f92dc99c
DTSTAMP:20260421T134554Z
DTSTART:20260621T190000Z
DTEND:20260621T210000Z
LOCATION:CRCA Black Box Theater 910 Center Street
SUMMARY:Hold Fast To Dreams: A Night with Langston Hughes
DESCRIPTION:Tickets: https://tickets.conyersarts.org/HoldFast Hold Fast to 
 Dreams explores the poetry of Langston Hughes.  It is a performance piece 
 on the importance of living your dreams and the dangers of dreams deferred.
  This exploration will be lived by actor\,  storyteller and poet Darius Wal
 lace. His performance will include the dynamic poems of[..]\nhttps://conyer
 sarts.org/calender-of-events/hold-fast-to-dreams-a-night-with-langston-hugh
 es-2/var/ri-2.l-L1
URL:https://conyersarts.org/calender-of-events/hold-fast-to-dreams-a-night-with-langston-hughes-2/var/ri-2.l-L1
END:VEVENT
END:VCALENDAR