BEGIN:VCALENDAR
VERSION:2.0
PRODID:-//eventon.com NONSGML v1.0//EN
CALSCALE:GREGORIAN
METHOD:PUBLISH
BEGIN:VEVENT
UID:69e4f68261f0e
DTSTAMP:20260419T153634Z
DTSTART:20260308T190000Z
DTEND:20260308T210000Z
LOCATION:CRCA Black Box Theater 910 Center Street
SUMMARY:Sunset Baby
DESCRIPTION:https://sunsetbaby.obtatl.com Get ready for an electrifying nig
 ht with Dominique Morisseau’s Sunset Baby—real talk\,  real feels\,  li
 ve on stage! Dominique Morisseau’s SUNSET BABY: Two Casts\,  One Ticket W
 hat happens when the revolution ends\,  but the war at home is just beginni
 ng? In a weathered Brooklyn apartment\,  a ghost from the past[..]\nhttps:/
 /conyersarts.org/calender-of-events/sunset-baby/var/ri-3.l-L1
URL:https://conyersarts.org/calender-of-events/sunset-baby/var/ri-3.l-L1
END:VEVENT
END:VCALENDAR