BEGIN:VCALENDAR
VERSION:2.0
PRODID:-//eventon.com NONSGML v1.0//EN
CALSCALE:GREGORIAN
METHOD:PUBLISH
BEGIN:VEVENT
UID:69e82d80374cc
DTSTAMP:20260422T020800Z
DTSTART:20261121T200000Z
DTEND:20261121T220000Z
LOCATION:CRCA Black Box Theater 910 Center Street
SUMMARY:The Last Gift
DESCRIPTION:Tickets: https://tickets.conyersarts.org/LastGift CRCA is pleas
 ed to be the World Premiere location for the new play\,  The Last Gift.  T
 his is a wonderful story that takes place in a nursing home\,  and about th
 e magic that a young child brings to a crotchety old man. It is written by 
 Earnest Lewis\, [..]\nhttps://conyersarts.org/calender-of-events/the-last-g
 ift/var/ri-1.l-L1
URL:https://conyersarts.org/calender-of-events/the-last-gift/var/ri-1.l-L1
END:VEVENT
END:VCALENDAR