BEGIN:VCALENDAR
VERSION:2.0
PRODID:-//eventon.com NONSGML v1.0//EN
CALSCALE:GREGORIAN
METHOD:PUBLISH
BEGIN:VEVENT
UID:69e82daae96a5
DTSTAMP:20260422T020842Z
DTSTART:20261025T190000Z
DTEND:20261025T210000Z
LOCATION:CRCA Black Box Theater 910 Center Street
SUMMARY:Cadillac Crew
DESCRIPTION:Tickets: https://tickets.conyersarts.org/CadillacCrew On the da
 y of a much-anticipated speech by Rosa Parks during the height of the Civil
  Rights Movement\,  four activists working in a Virginia civil rights offic
 e wonder whether the proclamation of equality amongst mankind includes wome
 n. With remarkable insight and unexpected humor\,  Cadillac Crew reclaims t
 he stories[..]\nhttps://conyersarts.org/calender-of-events/cadillac-crew/va
 r/ri-2.l-L1
URL:https://conyersarts.org/calender-of-events/cadillac-crew/var/ri-2.l-L1
END:VEVENT
END:VCALENDAR