BEGIN:VCALENDAR
VERSION:2.0
PRODID:-//eventon.com NONSGML v1.0//EN
CALSCALE:GREGORIAN
METHOD:PUBLISH
BEGIN:VEVENT
UID:69e77feab646d
DTSTAMP:20260421T134722Z
DTSTART:20261023T233000Z
DTEND:20261024T013000Z
LOCATION:CRCA Black Box Theater 910 Center Street
SUMMARY:Cadillac Crew
DESCRIPTION:Tickets: https://tickets.conyersarts.org/CadillacCrew On the da
 y of a much-anticipated speech by Rosa Parks during the height of the Civil
  Rights Movement\,  four activists working in a Virginia civil rights offic
 e wonder whether the proclamation of equality amongst mankind includes wome
 n. With remarkable insight and unexpected humor\,  Cadillac Crew reclaims t
 he stories[..]\nhttps://conyersarts.org/calender-of-events/cadillac-crew/
URL:https://conyersarts.org/calender-of-events/cadillac-crew/
END:VEVENT
END:VCALENDAR