BEGIN:VCALENDAR
VERSION:2.0
PRODID:-//eventon.com NONSGML v1.0//EN
CALSCALE:GREGORIAN
METHOD:PUBLISH
BEGIN:VEVENT
UID:69e74e766c5d1
DTSTAMP:20260421T101622Z
DTSTART:20241117T000000Z
DTEND:20241117T020000Z
LOCATION:CRCA Black Box Theater 910 Center Street
SUMMARY:Motown\,  Golden Oldies and More!
DESCRIPTION:Music that you&#8217;re sure to remember! Performed by: Unique 
 Melodeez Tickets: $35 Call Barbara to purchase tickets &#8211; 770-388-9731
  Email: starvisionevents@yahoo.com Ticket price includes admission to the A
 fter Party with Music by DJ Dubz at Star Vision (941 S Main Street)\nhttps:
 //conyersarts.org/calender-of-events/motown-golden-oldies-and-more/
URL:https://conyersarts.org/calender-of-events/motown-golden-oldies-and-more/
END:VEVENT
END:VCALENDAR