BEGIN:VCALENDAR
VERSION:2.0
PRODID:-//eventon.com NONSGML v1.0//EN
CALSCALE:GREGORIAN
METHOD:PUBLISH
BEGIN:VEVENT
UID:69e4df2b1e9a6
DTSTAMP:20260419T135659Z
DTSTART:20240718T233000Z
DTEND:20240719T013000Z
LOCATION:CRCA Black Box Theater 910 Center Street
SUMMARY:Disaster!
DESCRIPTION:Set on a floating casino\,  Disaster! is a jukebox musical wher
 e a group of eccentric and star-crossed characters’ fates become intwined
  amidst a series of earthquakes\,  tidal waves\,  and infernos. Playing hom
 age to the era’s classic disaster films and featuring such unforgettable 
 songs of the ‘70s: “Knock on Wood\, ” “Hooked[..]\nhttps://conyersa
 rts.org/calender-of-events/disaster/
URL:https://conyersarts.org/calender-of-events/disaster/
END:VEVENT
END:VCALENDAR