BEGIN:VCALENDAR
VERSION:2.0
PRODID:-//eventon.com NONSGML v1.0//EN
CALSCALE:GREGORIAN
METHOD:PUBLISH
BEGIN:VEVENT
UID:69e74f937aba2
DTSTAMP:20260421T102107Z
DTSTART:20230512T230000Z
DTEND:20230513T010000Z
LOCATION:CRCA Black Box Theater 910 Center Street
SUMMARY:TWELVE
DESCRIPTION:His Master’s Voice School of Music Presents TWELVE written by
  Corey Morgan with music by Kirk Franklin Students in the HMV Musical Drama
  Class have prepared the entire year to present this show for your enjoymen
 t. Friday\,  May 12 @ 7 PM  SOLD OUT! Saturday May 13 @ 2 PM[..]\nhttps://
 conyersarts.org/calender-of-events/twelve/
URL:https://conyersarts.org/calender-of-events/twelve/
END:VEVENT
END:VCALENDAR